{
 "currentVersion": 10.91,
 "serviceDescription": "",
 "mapName": "Burlington Public Works",
 "description": "",
 "copyrightText": "",
 "supportsDynamicLayers": true,
 "layers": [
  {
   "id": 0,
   "name": "Sewer Manhole - Midland",
   "parentLayerId": -1,
   "defaultVisibility": true,
   "subLayerIds": null,
   "minScale": 0,
   "maxScale": 0,
   "type": "Feature Layer",
   "geometryType": "esriGeometryPoint"
  }
 ],
 "tables": [],
 "spatialReference": {
  "wkid": 102676,
  "latestWkid": 3418
 },
 "singleFusedMapCache": true,
 "tileInfo": {
  "rows": 256,
  "cols": 256,
  "dpi": 96,
  "format": "MIXED",
  "compressionQuality": 75,
  "origin": {
   "x": -119240500,
   "y": 1.4525429999999997E8
  },
  "spatialReference": {
   "wkid": 102676,
   "latestWkid": 3418
  },
  "lods": [
   {
    "level": 0,
    "resolution": 355.55555555555554,
    "scale": 409600
   },
   {
    "level": 1,
    "resolution": 177.77777777777777,
    "scale": 204800
   },
   {
    "level": 2,
    "resolution": 88.88888888888889,
    "scale": 102400
   },
   {
    "level": 3,
    "resolution": 44.44444444444444,
    "scale": 51200
   },
   {
    "level": 4,
    "resolution": 22.22222222222222,
    "scale": 25600
   },
   {
    "level": 5,
    "resolution": 11.11111111111111,
    "scale": 12800
   },
   {
    "level": 6,
    "resolution": 5.555555555555555,
    "scale": 6400
   },
   {
    "level": 7,
    "resolution": 2.7777777777777777,
    "scale": 3200
   },
   {
    "level": 8,
    "resolution": 1.3888888888888888,
    "scale": 1600
   },
   {
    "level": 9,
    "resolution": 0.6944444444444444,
    "scale": 800
   },
   {
    "level": 10,
    "resolution": 0.3472222222222222,
    "scale": 400
   },
   {
    "level": 11,
    "resolution": 0.1736111111111111,
    "scale": 200
   }
  ]
 },
 "initialExtent": {
  "xmin": 2281796.850108588,
  "ymin": 294018.98435450206,
  "xmax": 2317812.475108588,
  "ymax": 310529.40102116857,
  "spatialReference": {
   "wkid": 102676,
   "latestWkid": 3418
  }
 },
 "fullExtent": {
  "xmin": 2287820.427124992,
  "ymin": 291117.5032276511,
  "xmax": 2306306.982999578,
  "ymax": 313275.77452781796,
  "spatialReference": {
   "wkid": 102676,
   "latestWkid": 3418
  }
 },
 "minScale": 204800,
 "maxScale": 200,
 "units": "esriFeet",
 "supportedImageFormatTypes": "PNG32,PNG24,PNG,JPG,DIB,TIFF,EMF,PS,PDF,GIF,SVG,SVGZ,BMP",
 "documentInfo": {
  "Title": "",
  "Author": "",
  "Comments": "",
  "Subject": "",
  "Category": "",
  "AntialiasingMode": "None",
  "TextAntialiasingMode": "Force",
  "Keywords": ""
 },
 "capabilities": "Map,Query,Data",
 "supportedQueryFormats": "JSON, geoJSON",
 "exportTilesAllowed": false,
 "referenceScale": 0,
 "supportsDatumTransformation": true,
 "maxRecordCount": 1000,
 "maxImageHeight": 4096,
 "maxImageWidth": 4096,
 "supportedExtensions": "KmlServer"
}
